BEGIN:VCALENDAR
VERSION:2.0
PRODID:-//Malaika Smile e.V. - ECPv6.15.20//NONSGML v1.0//EN
CALSCALE:GREGORIAN
METHOD:PUBLISH
X-ORIGINAL-URL:https://www.malaika-smile.org
X-WR-CALDESC:Veranstaltungen für Malaika Smile e.V.
REFRESH-INTERVAL;VALUE=DURATION:PT1H
X-Robots-Tag:noindex
X-PUBLISHED-TTL:PT1H
BEGIN:VTIMEZONE
TZID:Europe/Berlin
BEGIN:DAYLIGHT
TZOFFSETFROM:+0100
TZOFFSETTO:+0200
TZNAME:CEST
DTSTART:20250330T010000
END:DAYLIGHT
BEGIN:STANDARD
TZOFFSETFROM:+0200
TZOFFSETTO:+0100
TZNAME:CET
DTSTART:20251026T010000
END:STANDARD
BEGIN:DAYLIGHT
TZOFFSETFROM:+0100
TZOFFSETTO:+0200
TZNAME:CEST
DTSTART:20260329T010000
END:DAYLIGHT
BEGIN:STANDARD
TZOFFSETFROM:+0200
TZOFFSETTO:+0100
TZNAME:CET
DTSTART:20261025T010000
END:STANDARD
BEGIN:DAYLIGHT
TZOFFSETFROM:+0100
TZOFFSETTO:+0200
TZNAME:CEST
DTSTART:20270328T010000
END:DAYLIGHT
BEGIN:STANDARD
TZOFFSETFROM:+0200
TZOFFSETTO:+0100
TZNAME:CET
DTSTART:20271031T010000
END:STANDARD
END:VTIMEZONE
BEGIN:VEVENT
DTSTART;TZID=Europe/Berlin:20260321T110000
DTEND;TZID=Europe/Berlin:20260321T150000
DTSTAMP:20260425T182648
CREATED:20260310T191352Z
LAST-MODIFIED:20260310T191603Z
UID:9751-1774090800-1774105200@www.malaika-smile.org
SUMMARY:Ostermarkt Klinikum Mittelbaden Hub
DESCRIPTION:Herzliche Einladung zum Ostermarkt des Klinikums Mittelbaden Hub im Eingangsfoyer des Haus Hornisgrinde (Hubstr 66\, 77833 Ottersweier) am 21. März von 11-15 Uhr. \nWir sind mit einem Stand uns unseren „Schwarzwald meets Uganda“ Waren vertreten. Wir freuen uns schon\, euch wieder zu sehen und diesen tollen Markt (und uns) zu unterstützen. Vielleicht findet ihr ja das ein oder andere Ostergeschenk. \n  \nScreenshot\n 
URL:https://www.malaika-smile.org/event/ostermarkt-klinikum-mittelbaden-hub/
LOCATION:Hubstraße 66 77833 Ottersweier\, Hubstr. 66\, Ottersweier\, 77833\, Germany
END:VEVENT
END:VCALENDAR